BEGIN:VCALENDAR
VERSION:2.0
PRODID:-//www.casacannondekalbtn.org//NONSGML kigkonsult.se iCalcreator 2.3
 0.10//
CALSCALE:GREGORIAN
METHOD:PUBLISH
UID:9254bf42-0bc8-4d8d-9c19-ece03c515ce8
X-WR-CALDESC:
X-WR-RELCALID:b98b74976d684df4685c88c00814bf87
X-WR-TIMEZONE:America/Chicago
BEGIN:VTIMEZONE
TZID:America/Chicago
BEGIN:STANDARD
TZNAME:CST
DTSTART:20211107T020000
TZOFFSETFROM:-0500
TZOFFSETTO:-0600
RDATE:20221106T020000
END:STANDARD
BEGIN:DAYLIGHT
TZNAME:CDT
DTSTART:20210314T020000
TZOFFSETFROM:-0600
TZOFFSETTO:-0500
RDATE:20220313T020000
RDATE:20230312T020000
END:DAYLIGHT
END:VTIMEZONE
BEGIN:VEVENT
UID:638a7bcf-f73e-4924-9c87-52b637c1b23a
DTSTAMP:20260424T112556Z
DESCRIPTION:
DTSTART;TZID=America/Chicago:20211106T120000
DTEND;TZID=America/Chicago:20211106T140000
LOCATION:Lions Club\, 634 Lehman Street\, Woodbury\, TN 37190 US
SUMMARY:CASA of Cannon County Fish Fry
END:VEVENT
END:VCALENDAR
