BEGIN:VCALENDAR
VERSION:2.0
PRODID:-//www.casacannondekalbtn.org//NONSGML kigkonsult.se iCalcreator 2.3
 0.10//
CALSCALE:GREGORIAN
METHOD:PUBLISH
UID:86257607-b360-4896-af45-c0a675a874bb
X-WR-CALDESC:
X-WR-RELCALID:d2de2e390009e0874fa964dabb03d314
X-WR-TIMEZONE:America/Chicago
BEGIN:VTIMEZONE
TZID:America/Chicago
BEGIN:STANDARD
TZNAME:CST
DTSTART:20211107T020000
TZOFFSETFROM:-0500
TZOFFSETTO:-0600
RDATE:20221106T020000
END:STANDARD
BEGIN:DAYLIGHT
TZNAME:CDT
DTSTART:20210314T020000
TZOFFSETFROM:-0600
TZOFFSETTO:-0500
RDATE:20220313T020000
RDATE:20230312T020000
END:DAYLIGHT
END:VTIMEZONE
BEGIN:VEVENT
UID:0a8a3dc6-0d64-412d-a399-ab4ab4dba2d5
DTSTAMP:20260424T112844Z
DESCRIPTION:
DTSTART;TZID=America/Chicago:20211129T180000
DTEND;TZID=America/Chicago:20211129T200000
LOCATION:
SUMMARY:Volunteer Swearing In
END:VEVENT
END:VCALENDAR
