BEGIN:VCALENDAR
VERSION:2.0
PRODID:-//www.casacannondekalbtn.org//NONSGML kigkonsult.se iCalcreator 2.3
 0.10//
CALSCALE:GREGORIAN
METHOD:PUBLISH
UID:b0d4f957-517f-4521-a81a-a8b971bd1380
X-WR-CALDESC:
X-WR-RELCALID:4afcd1f24e4bd513c4a904ef0c818885
X-WR-TIMEZONE:America/Chicago
BEGIN:VTIMEZONE
TZID:America/Chicago
BEGIN:STANDARD
TZNAME:CST
DTSTART:20211107T020000
TZOFFSETFROM:-0500
TZOFFSETTO:-0600
RDATE:20221106T020000
END:STANDARD
BEGIN:DAYLIGHT
TZNAME:CDT
DTSTART:20210314T020000
TZOFFSETFROM:-0600
TZOFFSETTO:-0500
RDATE:20220313T020000
RDATE:20230312T020000
END:DAYLIGHT
END:VTIMEZONE
BEGIN:VEVENT
UID:27fd2283-4489-4066-9a88-d16a0dee9686
DTSTAMP:20260424T100121Z
DESCRIPTION:
DTSTART;TZID=America/Chicago:20211207T180000
DTEND;TZID=America/Chicago:20211207T203000
LOCATION:
SUMMARY:Volunteer Appreciation Dinner
END:VEVENT
END:VCALENDAR
